BEGIN:VCALENDAR
VERSION:2.0
PRODID:-//O&#039;Centre Formation - ECPv6.15.20//NONSGML v1.0//EN
CALSCALE:GREGORIAN
METHOD:PUBLISH
X-WR-CALNAME:O&#039;Centre Formation
X-ORIGINAL-URL:https://ocentre.ch
X-WR-CALDESC:Évènements pour O&#039;Centre Formation
REFRESH-INTERVAL;VALUE=DURATION:PT1H
X-Robots-Tag:noindex
X-PUBLISHED-TTL:PT1H
BEGIN:VTIMEZONE
TZID:Europe/Zurich
BEGIN:DAYLIGHT
TZOFFSETFROM:+0100
TZOFFSETTO:+0200
TZNAME:CEST
DTSTART:20190331T010000
END:DAYLIGHT
BEGIN:STANDARD
TZOFFSETFROM:+0200
TZOFFSETTO:+0100
TZNAME:CET
DTSTART:20191027T010000
END:STANDARD
BEGIN:DAYLIGHT
TZOFFSETFROM:+0100
TZOFFSETTO:+0200
TZNAME:CEST
DTSTART:20200329T010000
END:DAYLIGHT
BEGIN:STANDARD
TZOFFSETFROM:+0200
TZOFFSETTO:+0100
TZNAME:CET
DTSTART:20201025T010000
END:STANDARD
BEGIN:DAYLIGHT
TZOFFSETFROM:+0100
TZOFFSETTO:+0200
TZNAME:CEST
DTSTART:20210328T010000
END:DAYLIGHT
BEGIN:STANDARD
TZOFFSETFROM:+0200
TZOFFSETTO:+0100
TZNAME:CET
DTSTART:20211031T010000
END:STANDARD
END:VTIMEZONE
BEGIN:VEVENT
DTSTART;VALUE=DATE:20200815
DTEND;VALUE=DATE:20201018
DTSTAMP:20260422T105147
CREATED:20190718T131514Z
LAST-MODIFIED:20190718T131514Z
UID:10000081-1597449600-1602979199@ocentre.ch
SUMMARY:Cours de pleine conscience MBSR block en 5 journées à Neuchâtel (Val-de-Ruz)
DESCRIPTION:[vc_row fullwidth= »true » fullwidth_content= »false »][vc_column width= »1/2″][vc_column_text css= ».vc_custom_1596524799080{margin-bottom: 0px !important;} »] \nDates\n5 journées du 15 août au 17 octobre : \n\n15 août de 10h à 17h\n  5 septembre de 10h à 17h\n26 septembre de 10h à 17h\n  3 octobre de 10h à 17h\n17 octobre de 10h à 17h\n\nLieu\nLe cours a lieu à l’atelier du Yoga à Chézard-St-Martin dans le Val-de-Ruz entre Neuchâtel et la CHaux-de-Fonds. \nPrix\n600.-[/vc_column_text][/vc_column][vc_column width= »1/2″][vc_column_text css= ».vc_custom_1596357973309{margin-bottom: 0px !important;} »] \n\nInscription et payement\nVous pouvez vous inscrire à ce cours directement sur cette page tant qu’il y a des places disponibles. Un entretien préalable est nécéssaire pour valider votre inscription. Nous vous contacterons à réception de votre inscription pour convenir d’une date. Vous pouvez également nous contacter au moyen du formulaire ci-dessous pour toute question. \nListe d’attente\nSi le cours est complet et qu’il n’est plus possible de vous inscrire sur cette page\, vous pouvez nous contacter au moyen du formulaire ci-dessous pour rejoindre la liste d’attente. Nous vous recontacterons pour confirmer que vous êtes inscrit sur la liste d’attente et si une place se libère pour vous.[/vc_column_text][/vc_column][/vc_row][vc_row fullwidth= »true » fullwidth_content= »false »][vc_column][vc_separator][vc_column_text css= ».vc_custom_1563455692142{margin-bottom: 0px !important;} »][oc_portfolio_content id= »5754″][/vc_column_text][/vc_column][/vc_row]
URL:https://ocentre.ch/evenement/cours-de-pleine-conscience-mbsr-block-a-neuchatel-15-08-2020/
LOCATION:L’atelier du Yoga\, Grand'Rue 52\, Chézard-St-Martin\, 2054
CATEGORIES:MBSR,MBSR Block,Pleine conscience
ATTACH;FMTTYPE=image/jpeg:https://ocentre.ch/wp-content/uploads/kelly-sikkema-kxtb2tfbf2g-unsplash-500px.jpg
GEO:47.064453;6.9265083
X-APPLE-STRUCTURED-LOCATION;VALUE=URI;X-ADDRESS=L’atelier du Yoga Grand'Rue 52 Chézard-St-Martin 2054;X-APPLE-RADIUS=500;X-TITLE=Grand'Rue 52:geo:6.9265083,47.064453
END:VEVENT
END:VCALENDAR