BEGIN:VCALENDAR
VERSION:2.0
PRODID:-//O&#039;Centre Formation - ECPv6.15.20//NONSGML v1.0//EN
CALSCALE:GREGORIAN
METHOD:PUBLISH
X-WR-CALNAME:O&#039;Centre Formation
X-ORIGINAL-URL:https://ocentre.ch
X-WR-CALDESC:Évènements pour O&#039;Centre Formation
REFRESH-INTERVAL;VALUE=DURATION:PT1H
X-Robots-Tag:noindex
X-PUBLISHED-TTL:PT1H
BEGIN:VTIMEZONE
TZID:Europe/Zurich
BEGIN:DAYLIGHT
TZOFFSETFROM:+0100
TZOFFSETTO:+0200
TZNAME:CEST
DTSTART:20200329T010000
END:DAYLIGHT
BEGIN:STANDARD
TZOFFSETFROM:+0200
TZOFFSETTO:+0100
TZNAME:CET
DTSTART:20201025T010000
END:STANDARD
BEGIN:DAYLIGHT
TZOFFSETFROM:+0100
TZOFFSETTO:+0200
TZNAME:CEST
DTSTART:20210328T010000
END:DAYLIGHT
BEGIN:STANDARD
TZOFFSETFROM:+0200
TZOFFSETTO:+0100
TZNAME:CET
DTSTART:20211031T010000
END:STANDARD
BEGIN:DAYLIGHT
TZOFFSETFROM:+0100
TZOFFSETTO:+0200
TZNAME:CEST
DTSTART:20220327T010000
END:DAYLIGHT
BEGIN:STANDARD
TZOFFSETFROM:+0200
TZOFFSETTO:+0100
TZNAME:CET
DTSTART:20221030T010000
END:STANDARD
BEGIN:DAYLIGHT
TZOFFSETFROM:+0100
TZOFFSETTO:+0200
TZNAME:CEST
DTSTART:20230326T010000
END:DAYLIGHT
BEGIN:STANDARD
TZOFFSETFROM:+0200
TZOFFSETTO:+0100
TZNAME:CET
DTSTART:20231029T010000
END:STANDARD
END:VTIMEZONE
BEGIN:VEVENT
DTSTART;TZID=Europe/Zurich:20220426T190000
DTEND;TZID=Europe/Zurich:20220426T200000
DTSTAMP:20260419T200210
CREATED:20220331T214816Z
LAST-MODIFIED:20220425T185015Z
UID:10000002-1650999600-1651003200@ocentre.ch
SUMMARY:Présentation du programme MBCL en visioconférence 26-04-2022
DESCRIPTION:[vc_row][vc_column][vc_column_text] \n\n[/vc_column_text][/vc_column][/vc_row][vc_row][vc_column width= »1/2″][vc_column_text css= ».vc_custom_1650908939244{margin-bottom: 0px !important;} »] \nPrésentation du programme MBCL de développement de la compassion par la pleine conscience.\nLe programme MBCL (Mindfulness Based Compassionate Living) est une suite au programme MBSR ou MBCT  pour les personnes  qui souhaitent développer la compassion et l’auto-compassion. La pleine conscience ouvre nos sens\, nous donne une vision plus claire et plus lucide de la vie. La compassion ouvre la dimension du coeur pour nous entrer en contact  avec notre souffrance et celle des autres. La pleine conscience et la compassion vont de pair\, comme les 2 faces d’une même pièce. La compassion est déjà présente dans les programmes MBSR et MBCT lorsque l’on cultive la bienveillance pour accueillir nos difficultés. L’entrainement spécifique à la compassion et l’auto-compassion cultive et développe cette qualité d’acceptation de soi\, des autres et de la vie en général. Ce programme a été développé par Frits Koster\, ancien moine Bouddhiste et infirmier en psychiatrie et Eric Van den Brick\, psychiatre et psychothérapeute. Leurs connaissances respectives en psychologie occidentale et bouddhiste et leur expériences méditatives ont permis de développer un programme en s’appuyant à la fois sur des connaissances anciennes et sur les résultats de recherches scientifiques actuels. Les effets de ce programme ont été validé par plusieurs études qui confirment\, entre autres\, une réduction du sentiment de stress et d’anxiété\, une diminution des symptômes psychosomatiques\, plus de joie de vivre ainsi que de capacité à se détendre. Vous trouverez plus d’informations sur ce cours sur la page dédiée au programme MBCL. \nProgramme\nDifférents sujets seront abordés au cours de cette soirée : \n\nQu’est-ce que la compassion.\nQuels sont les bases de ce programme ?\nQuels bienfaits attendre de ces pratiques ?\nLes résultats mis en évidence par les études scientifiques.\nCe sera également l’occasion de faire connaissance et de répondre à vos questions.\n\nPublic\nLe programme MBCL est une suite logique au programme MBSR/MBCT pour les personnes qui souhaitent développer la compassion et qui ont une pratique régulière de méditation. \nProgramme :\n\nAccueil dès 17h45\n18h00 – 19h00 : Présentation et discussion\n\nIntervenant\nJean-Daniel Rüedi\, Instructeur MBCL et MBSR. \nLieu\nPlatforme ZOOM \nTarif\nGratuit \nPlus d’information\n\nLe programme MBCL\nLe programme MBSR\nLa pleine conscience\n\n[/vc_column_text][/vc_column][vc_column width= »1/2″][mk_image src= »https://ocentre.ch/wp-content/uploads/sites/9/tim-marshall-114623-500px.jpg » image_width= »500″ image_height= »500″ margin_bottom= »50″][vc_column_text margin_bottom= »50″ css= ».vc_custom_1537712890465{margin-bottom: 0px !important;} »] \nInscriptions\nMerci de nous annoncer votre participation en remplissant le formulaire ci-dessous.[/vc_column_text][mk_contact_form button_text= »Inscription » gdpr_consent_text= »J’autorise O’Centre Formation à collecter mes informations via ce formulaire. »][vc_column_text margin_bottom= »50″ css= ».vc_custom_1512207792046{margin-bottom: 0px !important;} »] \nRestez informé\nAbonnez-vous à notre lettre d’information pour être averti des prochaines dates de cours [wysija_form id= »1″][/vc_column_text][vc_column_text css= ».vc_custom_1577660801010{margin-bottom: 0px !important;} »] \nProchains événements\n\n	\n		\n\n			\n			\n\n			\n			\n				\n			\n			\n	\n		\n		\n		\n		\n	\n\n\n	Notice\n							\n					Il n’y a pas d’évènements à venir.				\n					\n	\n\n					\n	\n\n\n Vers l’agenda[/vc_column_text][/vc_column][/vc_row][vc_row][vc_column][vc_column_text css= ».vc_custom_1511471123395{margin-bottom: 0px !important;} »] \nToutes nos activités\n[/vc_column_text][mk_portfolio column= »4″ excerpt_length= »0″ zoom_icon= »false » count= »-1″ sortable= »false » order= »ASC » orderby= »menu_order » categories= »pleine-conscience »][/vc_column][/vc_row][vc_row][vc_column][vc_column_text]     [/vc_column_text][/vc_column][/vc_row][vc_row][vc_column][vc_column_text] \n\n  \n\n  \n\n  \n\n  \n\n \n\n  \n\n[/vc_column_text][/vc_column][/vc_row]
URL:https://ocentre.ch/evenement/presentation-du-programme-mbcl-en-visioconference-26-04-2022/
LOCATION:Visioconférence\, Suisse
CATEGORIES:Présentation du programme MBCL
ATTACH;FMTTYPE=image/jpeg:https://ocentre.ch/wp-content/uploads/tim-marshall-114623-500px.jpg
GEO:46.9751954;6.771555
END:VEVENT
BEGIN:VEVENT
DTSTART;TZID=Europe/Zurich:20211020T090000
DTEND;TZID=Europe/Zurich:20211020T100000
DTSTAMP:20260419T200211
CREATED:20210826T200954Z
LAST-MODIFIED:20210826T200954Z
UID:10000005-1634720400-1634724000@ocentre.ch
SUMMARY:Présentation du programme MBCL en visioconférence 20-10-2021
DESCRIPTION:[vc_row][vc_column width= »1/2″][vc_column_text css= ».vc_custom_1634562527717{margin-bottom: 0px !important;} »] \nPrésentation du programme MBCL de développement de la compassion par la pleine conscience.\nLe programme MBCL (Mindfulness Based Compassionate Living) est une suite au programme MBSR ou MBCT  pour les personnes  qui souhaitent développer la compassion et l’auto-compassion. La pleine conscience ouvre nos sens\, nous donne une vision plus claire et plus lucide de la vie. La compassion ouvre la dimension du coeur pour nous entrer en contact  avec notre souffrance et celle des autres. La pleine conscience et la compassion vont de pair\, comme les 2 faces d’une même pièce. La compassion est déjà présente dans les programmes MBSR et MBCT lorsque l’on cultive la bienveillance pour accueillir nos difficultés. L’entrainement spécifique à la compassion et l’auto-compassion cultive et développe cette qualité d’acceptation de soi\, des autres et de la vie en général.\nCe programme a été développé par Frits Koster\, ancien moine Bouddhiste et infirmier en psychiatrie et Eric Van den Brick\, psychiatre et psychothérapeute. Leurs connaissances respectives en psychologie occidentale et bouddhiste et leur expériences méditatives ont permis de développer un programme en s’appuyant à la fois sur des connaissances anciennes et sur les résultats de recherches scientifiques actuels. Les effets de ce programme ont été validé par plusieurs études qui confirment\, entre autres\, une réduction du sentiment de stress et d’anxiété\, une diminution des symptômes psychosomatiques\, plus de joie de vivre ainsi que de capacité à se détendre.\nVous trouverez plus d’informations sur ce cours sur la page dédiée au programme MBCL. \nProgramme\nDifférents sujets seront abordés au cours de cette soirée : \n\nQu’est-ce que la compassion.\nQuels sont les bases de ce programme ?\nQuels bienfaits attendre de ces pratiques ?\nLes résultats mis en évidence par les études scientifiques.\nCe sera également l’occasion de faire connaissance et de répondre à vos questions.\n\nPublic\nLe programme MBCL est une suite logique au programme MBSR/MBCT pour les personnes qui souhaitent développer la compassion et qui ont une pratique régulière de méditation. \nProgramme :\n\nAccueil dès 8h45\n9h00 – 10h00 : Présentation et discussion\n\nIntervenant\nJean-Daniel Rüedi\, Instructeur MBCL et MBSR. \nLieu\nPlatforme ZOOM \nTarif\nGratuit \nPlus d’information\n\nLe programme MBCL\nLe programme MBSR\nLa pleine conscience\n\n[/vc_column_text][/vc_column][vc_column width= »1/2″][mk_image src= »https://ocentre.ch/wp-content/uploads/sites/9/tim-marshall-114623-500px.jpg » image_width= »500″ image_height= »500″ margin_bottom= »50″][vc_column_text margin_bottom= »50″ css= ».vc_custom_1537712890465{margin-bottom: 0px !important;} »] \nInscriptions\nMerci de nous annoncer votre participation en remplissant le formulaire ci-dessous.[/vc_column_text][mk_contact_form button_text= »Inscription » gdpr_consent_text= »J’autorise O’Centre Formation à collecter mes informations via ce formulaire. »][vc_column_text margin_bottom= »50″ css= ».vc_custom_1512207792046{margin-bottom: 0px !important;} »] \nRestez informé\nAbonnez-vous à notre lettre d’information pour être averti des prochaines dates de cours [wysija_form id= »1″][/vc_column_text][vc_column_text css= ».vc_custom_1577660801010{margin-bottom: 0px !important;} »] \nProchains événements\n\n	\n		\n\n			\n			\n\n			\n			\n				\n			\n			\n	\n		\n		\n		\n		\n	\n\n\n	Notice\n							\n					Il n’y a pas d’évènements à venir.				\n					\n	\n\n					\n	\n\n\n Vers l’agenda[/vc_column_text][/vc_column][/vc_row][vc_row][vc_column][vc_column_text css= ».vc_custom_1511471123395{margin-bottom: 0px !important;} »] \nToutes nos activités\n[/vc_column_text][mk_portfolio column= »4″ excerpt_length= »0″ zoom_icon= »false » count= »-1″ sortable= »false » order= »ASC » orderby= »menu_order » categories= »pleine-conscience »][/vc_column][/vc_row][vc_row][vc_column][vc_column_text]     [/vc_column_text][/vc_column][/vc_row]
URL:https://ocentre.ch/evenement/presentation-du-programme-mbcl-en-visioconference-20-10-2021/
LOCATION:Visioconférence\, Suisse
CATEGORIES:Présentation du programme MBCL
ATTACH;FMTTYPE=image/jpeg:https://ocentre.ch/wp-content/uploads/tim-marshall-114623-500px.jpg
GEO:46.9751954;6.771555
END:VEVENT
BEGIN:VEVENT
DTSTART;TZID=Europe/Zurich:20210225T190000
DTEND;TZID=Europe/Zurich:20210225T200000
DTSTAMP:20260419T200211
CREATED:20210214T154553Z
LAST-MODIFIED:20210214T154553Z
UID:10000036-1614279600-1614283200@ocentre.ch
SUMMARY:Présentation du programme MBCL en visioconférence 25-02-2021
DESCRIPTION:[vc_row][vc_column width= »1/2″][vc_column_text css= ».vc_custom_1612189585171{margin-bottom: 0px !important;} »] \nPrésentation du programme MBCL de développement de la compassion par la pleine conscience.\nLe programme MBCL (Mindfulness Based Compassionate Living) est une suite au programme MBSR ou MBCT  pour les personnes  qui souhaitent développer la compassion et l’auto-compassion. La pleine conscience ouvre nos sens\, nous donne une vision plus claire et plus lucide de la vie. La compassion ouvre la dimension du coeur pour nous entrer en contact  avec notre souffrance et celle des autres. La pleine conscience et la compassion vont de pair\, comme les 2 faces d’une même pièce. La compassion est déjà présente dans les programmes MBSR et MBCT lorsque l’on cultive la bienveillance pour accueillir nos difficultés. L’entrainement spécifique à la compassion et l’auto-compassion cultive et développe cette qualité d’acceptation de soi\, des autres et de la vie en général.\nCe programme a été développé par Frits Koster\, ancien moine Bouddhiste et infirmier en psychiatrie et Eric Van den Brick\, psychiatre et psychothérapeute. Leurs connaissances respectives en psychologie occidentale et bouddhiste et leur expériences méditatives ont permis de développer un programme en s’appuyant à la fois sur des connaissances anciennes et sur les résultats de recherches scientifiques actuels. Les effets de ce programme ont été validé par plusieurs études qui confirment\, entre autres\, une réduction du sentiment de stress et d’anxiété\, une diminution des symptômes psychosomatiques\, plus de joie de vivre ainsi que de capacité à se détendre.\nVous trouverez plus d’informations sur ce cours sur la page dédiée au programme MBCL. \nProgramme\nDifférents sujets seront abordés au cours de cette soirée : \n\nQu’est-ce que la compassion.\nQuels sont les bases de ce programme ?\nQuels bienfaits attendre de ces pratiques ?\nLes résultats mis en évidence par les études scientifiques.\nCe sera également l’occasion de faire connaissance et de répondre à vos questions.\n\nPublic\nLe programme MBCL est une suite logique au programme MBSR/MBCT pour les personnes qui souhaitent développer la compassion et qui ont une pratique régulière de méditation. \nProgramme :\n\nAccueil dès 14h15\n14h30 – 15h30 : Présentation et discussion\n\nIntervenant\nJean-Daniel Rüedi\, Instructeur MBCL et MBSR. \nLieu\nPlatforme ZOOM \nTarif\nGratuit \nPlus d’information\n\nLe programme MBCL\nLe programme MBSR\nLa pleine conscience\n\n[/vc_column_text][/vc_column][vc_column width= »1/2″][mk_image src= »https://ocentre.ch/wp-content/uploads/sites/9/tim-marshall-114623-500px.jpg » image_width= »500″ image_height= »500″ margin_bottom= »50″][vc_column_text margin_bottom= »50″ css= ».vc_custom_1537712890465{margin-bottom: 0px !important;} »] \nInscriptions\nMerci de nous annoncer votre participation en remplissant le formulaire ci-dessous.[/vc_column_text][mk_contact_form button_text= »Inscription » phone= »true » gdpr_consent= »false »][vc_column_text margin_bottom= »50″ css= ».vc_custom_1512207792046{margin-bottom: 0px !important;} »] \nRestez informé\nAbonnez-vous à notre lettre d’information pour être averti des prochaines dates de cours [wysija_form id= »1″][/vc_column_text][vc_column_text css= ».vc_custom_1577660801010{margin-bottom: 0px !important;} »] \nProchains événements\n\n	\n		\n\n			\n			\n\n			\n			\n				\n			\n			\n	\n		\n		\n		\n		\n	\n\n\n	Notice\n							\n					Il n’y a pas d’évènements à venir.				\n					\n	\n\n					\n	\n\n\n Vers l’agenda[/vc_column_text][/vc_column][/vc_row][vc_row][vc_column][vc_column_text css= ».vc_custom_1511471123395{margin-bottom: 0px !important;} »] \nToutes nos activités\n[/vc_column_text][mk_portfolio column= »4″ excerpt_length= »0″ zoom_icon= »false » count= »-1″ sortable= »false » order= »ASC » orderby= »menu_order » categories= »pleine-conscience »][/vc_column][/vc_row][vc_row][vc_column][vc_column_text]     [/vc_column_text][/vc_column][/vc_row]
URL:https://ocentre.ch/evenement/presentation-du-programme-mbcl-en-visioconference-25-02-2021/
LOCATION:Visioconférence\, Suisse
CATEGORIES:Présentation du programme MBCL
ATTACH;FMTTYPE=image/jpeg:https://ocentre.ch/wp-content/uploads/tim-marshall-114623-500px.jpg
GEO:46.9751954;6.771555
END:VEVENT
BEGIN:VEVENT
DTSTART;TZID=Europe/Zurich:20210215T143000
DTEND;TZID=Europe/Zurich:20210215T153000
DTSTAMP:20260419T200211
CREATED:20210201T142646Z
LAST-MODIFIED:20210201T142646Z
UID:10000032-1613399400-1613403000@ocentre.ch
SUMMARY:Présentation du programme MBCL en visioconférence 15-02-2021
DESCRIPTION:[vc_row][vc_column width= »1/2″][vc_column_text css= ».vc_custom_1612189585171{margin-bottom: 0px !important;} »] \nPrésentation du programme MBCL de développement de la compassion par la pleine conscience.\nLe programme MBCL (Mindfulness Based Compassionate Living) est une suite au programme MBSR ou MBCT  pour les personnes  qui souhaitent développer la compassion et l’auto-compassion. La pleine conscience ouvre nos sens\, nous donne une vision plus claire et plus lucide de la vie. La compassion ouvre la dimension du coeur pour nous entrer en contact  avec notre souffrance et celle des autres. La pleine conscience et la compassion vont de pair\, comme les 2 faces d’une même pièce. La compassion est déjà présente dans les programmes MBSR et MBCT lorsque l’on cultive la bienveillance pour accueillir nos difficultés. L’entrainement spécifique à la compassion et l’auto-compassion cultive et développe cette qualité d’acceptation de soi\, des autres et de la vie en général.\nCe programme a été développé par Frits Koster\, ancien moine Bouddhiste et infirmier en psychiatrie et Eric Van den Brick\, psychiatre et psychothérapeute. Leurs connaissances respectives en psychologie occidentale et bouddhiste et leur expériences méditatives ont permis de développer un programme en s’appuyant à la fois sur des connaissances anciennes et sur les résultats de recherches scientifiques actuels. Les effets de ce programme ont été validé par plusieurs études qui confirment\, entre autres\, une réduction du sentiment de stress et d’anxiété\, une diminution des symptômes psychosomatiques\, plus de joie de vivre ainsi que de capacité à se détendre.\nVous trouverez plus d’informations sur ce cours sur la page dédiée au programme MBCL. \nProgramme\nDifférents sujets seront abordés au cours de cette soirée : \n\nQu’est-ce que la compassion.\nQuels sont les bases de ce programme ?\nQuels bienfaits attendre de ces pratiques ?\nLes résultats mis en évidence par les études scientifiques.\nCe sera également l’occasion de faire connaissance et de répondre à vos questions.\n\nPublic\nLe programme MBCL est une suite logique au programme MBSR/MBCT pour les personnes qui souhaitent développer la compassion et qui ont une pratique régulière de méditation. \nProgramme :\n\nAccueil dès 14h15\n14h30 – 15h30 : Présentation et discussion\n\nIntervenant\nJean-Daniel Rüedi\, Instructeur MBCL et MBSR. \nLieu\nPlatforme ZOOM \nTarif\nGratuit \nPlus d’information\n\nLe programme MBCL\nLe programme MBSR\nLa pleine conscience\n\n[/vc_column_text][/vc_column][vc_column width= »1/2″][mk_image src= »https://ocentre.ch/wp-content/uploads/sites/9/tim-marshall-114623-500px.jpg » image_width= »500″ image_height= »500″ margin_bottom= »50″][vc_column_text margin_bottom= »50″ css= ».vc_custom_1537712890465{margin-bottom: 0px !important;} »] \nInscriptions\nMerci de nous annoncer votre participation en remplissant le formulaire ci-dessous.[/vc_column_text][mk_contact_form button_text= »Inscription » phone= »true » gdpr_consent= »false »][vc_column_text margin_bottom= »50″ css= ».vc_custom_1512207792046{margin-bottom: 0px !important;} »] \nRestez informé\nAbonnez-vous à notre lettre d’information pour être averti des prochaines dates de cours [wysija_form id= »1″][/vc_column_text][vc_column_text css= ».vc_custom_1577660801010{margin-bottom: 0px !important;} »] \nProchains événements\n\n	\n		\n\n			\n			\n\n			\n			\n				\n			\n			\n	\n		\n		\n		\n		\n	\n\n\n	Notice\n							\n					Il n’y a pas d’évènements à venir.				\n					\n	\n\n					\n	\n\n\n Vers l’agenda[/vc_column_text][/vc_column][/vc_row][vc_row][vc_column][vc_column_text css= ».vc_custom_1511471123395{margin-bottom: 0px !important;} »] \nToutes nos activités\n[/vc_column_text][mk_portfolio column= »4″ excerpt_length= »0″ zoom_icon= »false » count= »-1″ sortable= »false » order= »ASC » orderby= »menu_order » categories= »pleine-conscience »][/vc_column][/vc_row][vc_row][vc_column][vc_column_text]     [/vc_column_text][/vc_column][/vc_row]
URL:https://ocentre.ch/evenement/presentation-du-programme-mbcl-en-visioconference-15-02-2021/
LOCATION:Visioconférence\, Suisse
CATEGORIES:Présentation du programme MBCL
ATTACH;FMTTYPE=image/jpeg:https://ocentre.ch/wp-content/uploads/tim-marshall-114623-500px.jpg
GEO:46.9751954;6.771555
END:VEVENT
END:VCALENDAR