BEGIN:VCALENDAR
VERSION:2.0
PRODID:-//O&#039;Centre Formation - ECPv6.15.20//NONSGML v1.0//EN
CALSCALE:GREGORIAN
METHOD:PUBLISH
X-WR-CALNAME:O&#039;Centre Formation
X-ORIGINAL-URL:https://ocentre.ch
X-WR-CALDESC:Évènements pour O&#039;Centre Formation
REFRESH-INTERVAL;VALUE=DURATION:PT1H
X-Robots-Tag:noindex
X-PUBLISHED-TTL:PT1H
BEGIN:VTIMEZONE
TZID:Europe/Zurich
BEGIN:DAYLIGHT
TZOFFSETFROM:+0100
TZOFFSETTO:+0200
TZNAME:CEST
DTSTART:20240331T010000
END:DAYLIGHT
BEGIN:STANDARD
TZOFFSETFROM:+0200
TZOFFSETTO:+0100
TZNAME:CET
DTSTART:20241027T010000
END:STANDARD
BEGIN:DAYLIGHT
TZOFFSETFROM:+0100
TZOFFSETTO:+0200
TZNAME:CEST
DTSTART:20250330T010000
END:DAYLIGHT
BEGIN:STANDARD
TZOFFSETFROM:+0200
TZOFFSETTO:+0100
TZNAME:CET
DTSTART:20251026T010000
END:STANDARD
BEGIN:DAYLIGHT
TZOFFSETFROM:+0100
TZOFFSETTO:+0200
TZNAME:CEST
DTSTART:20260329T010000
END:DAYLIGHT
BEGIN:STANDARD
TZOFFSETFROM:+0200
TZOFFSETTO:+0100
TZNAME:CET
DTSTART:20261025T010000
END:STANDARD
END:VTIMEZONE
BEGIN:VEVENT
DTSTART;TZID=Europe/Zurich:20251122T090000
DTEND;TZID=Europe/Zurich:20251123T170000
DTSTAMP:20260421T163908
CREATED:20250930T164007Z
LAST-MODIFIED:20251023T204429Z
UID:10000251-1763802000-1763917200@ocentre.ch
SUMMARY:Cours d'auto-hypnose à Delémont 22-23.11.2025
DESCRIPTION:[vc_row][vc_column][vc_column_text] \n\n[/vc_column_text][/vc_column][/vc_row][vc_row fullwidth= »true » fullwidth_content= »false »][vc_column width= »1/2″][vc_column_text css= ».vc_custom_1761252048550{margin-bottom: 0px !important;} »] \nFormat\nUn weekend à Delémont (JU) \nHoraire\n9h00 – 17h00 \nPrix\nCHF 360.- (400.- après le 7 novembre) \n[/vc_column_text][/vc_column][vc_column width= »1/2″][vc_column_text css= ».vc_custom_1759249831201{margin-bottom: 0px !important;} »] \nDates:\n\n22 novembre 2025\n23 novembre 2025\n\n[/vc_column_text][/vc_column][/vc_row][vc_row fullwidth= »true » fullwidth_content= »false »][vc_column][vc_separator css= » »][/vc_column][/vc_row][vc_row][vc_column width= »1/2″][vc_column_text css= ».vc_custom_1759417769162{margin-bottom: 0px !important;} »] \nLaissez-vous surprendre par la créativité de votre inconscient.\nDescription\nLa transe est un état naturel que nous vivons tous les jours. Elle facilite la communication avec l’inconscient et permet de faire émerger des solutions créatives. L’autohypnose est une technique qui permet d’y accéder à volonté pour activer les ressources inconscientes que nous avons à disposition. \nIl s’agit de techniques simples qui peuvent s’appliquer concrètement à tous les domaines de votre choix\, tels que créativité\, émotions\, stress\, anxiété\, mémoire\, poids\, confiance en soi. \nL’approche que nous proposons est basée sur la transe générative qui permet de mobiliser les sources d’intelligences cognitives\, somatiques et de champ. A la fin de ce cours vous aurez les bases nécessaires pour pouvoir pratiquer en sécurité\, de manière autonome. \nCe que vous allez apprendre\n\nLes bases de l’autohypnose et des états de transe.\nLes précautions à mettre en place pour pratiquer en toute sécurité.\nLes techniques d’accès à la transe qui vous conviennent le mieux.\nEntrer en contact avec vos différentes formes d’intelligence.\nPoser une intention pour mobiliser votre inconscient.\nActiver les ressources inconscientes que vous avez à disposition.\nTravailler avec les résistances qui vous limitent.\nAppliquer l’autohypnose dans tous les domaines de votre choix.\n\nPublic\nCe cours est ouvert à toutes les personnes qui souhaitent découvrir l’auto-Hypnose et l’utiliser de manière autonome. \nContre-indication\nLes personnes en cours de traitement ou d’accompagnement médical et/ou psychologique ainsi que pour les personnes avec des antécédents psychologiques\, veuillez vous assurer avant de vous inscrire avec votre médecin et/ou thérapeute qu’il n’y a pas de contre-indication à suivre cette formation pour vous. Nous sommes à disposition pour tout complément d’information. \nFormateur\nJean-Daniel Rüedi\nMaître-Praticien certifié en Hypnose et en PNL (Programmation Neuro-Linguistique)\, coach professionnel ICF-ACTP. \nAttestation de cours\nLes participants reçoivent une attestation de participation au cours qui ouvre la porte à la formation avancée d’autohypnose\, durant laquelles des aspects plus spécifiques de l’auto-Hypnose seront explorés. \nDurée\n12h \n[/vc_column_text][/vc_column][vc_column width= »1/2″][mk_image src= »https://ocentre.ch/wp-content/uploads/ludde-lorentz-47866-1000×1000-1.png » image_width= »500″ image_height= »500″][vc_column_text css= ».vc_custom_1739271972756{margin-bottom: 0px !important;} »] \nOrganisation\nL’organisation du cours est confirmée une fois que le nombre minimal de participants est atteint. \nProchaines dates et inscriptions\n\n	\n		\n\n			\n			\n\n			\n			\n				\n											\n\n	\n	\n		\n			Juil		\n		\n			13		\n	\n\n\n	\n		\n			\n\n				\n					\n		\n		13 juillet - 16 juillet	\n	\n					\n	\n		Cours d’auto-hypnose estival à Neuchâtel 13-16.07.2026	\n\n				\n\n				\n			\n		\n	\n\n\n									\n\n				\n	\n		Voir le calendrier	\n\n\n					\n	\n\n\n\nNos prochaines activités\n\n	\n		\n\n			\n			\n\n			\n			\n				\n			\n			\n	\n		\n		\n		\n		\n	\n\n\n	Notice\n							\n					Il n’y a pas d’évènements à venir.				\n					\n	\n\n					\n	\n\n\n Agenda de toutes les activités \n[/vc_column_text][/vc_column][/vc_row][mk_page_section bg_color= »#d1d1d1″ padding_top= »30″ padding_bottom= »30″ sidebar= »sidebar-1″][vc_column][vc_row_inner][vc_column_inner][vc_column_text css= ».vc_custom_1513790862579{margin-bottom: 0px !important;} »] \nTémoignages\n[/vc_column_text][/vc_column_inner][/vc_row_inner][vc_row_inner][vc_column_inner width= »1/2″][vc_cta h2= » »]A faire absolument! En quatre jours j’ai plus appris sur moi que en 5 ans de prise d’antidépresseurs avec psychiatre.[/vc_cta][vc_cta h2= » »]Très belle découverte d’une méthode de bien-être et de travail sur soi. A pratiquer un max.[/vc_cta][vc_cta h2= » »]Cela m’a permis de penser plus à moi\, de me retrouver un peu plus et j’encouragerai mon entourage indécis. Merci beaucoup![/vc_cta][vc_cta h2= » »]Il n’y a pas de règles\, tout est à explorer. Je ne me pose plus la question si je fais juste ou faux\, je prends comme cela vient.[/vc_cta][vc_cta h2= » »]D’autres visions sur ma vie. Avec des choses simples on peut changer beaucoup.[/vc_cta][vc_cta h2= » »]Très bon cours pour connaître une autre partie de soi-même[/vc_cta][/vc_column_inner][vc_column_inner width= »1/2″][vc_cta h2= » »]Heureux d’avoir fait ce cours qui m’apporte beaucoup.[/vc_cta][vc_cta h2= » »]Cela amène une meilleure connaissance de soi et des outils concrets pour améliorer sa qualité de vie.[/vc_cta][vc_cta h2= » »]Simple et rapidement sur le concret![/vc_cta][vc_cta h2= » »]Tentez\, osez\, laissez-vous porter et faites vous confiance.[/vc_cta][vc_cta h2= » »]Allez-y ça fait du bien.[/vc_cta][/vc_column_inner][/vc_row_inner][/vc_column][/mk_page_section][vc_row][vc_column][vc_column_text css= ».vc_custom_1515241881451{margin-bottom: 0px !important;} »] \nNos différents cours de PNL et hypnose\n[/vc_column_text][mk_portfolio column= »4″ excerpt_length= »0″ zoom_icon= »false » sortable= »false » order= »ASC » orderby= »menu_order » categories= »pnl\, hypnose »][/vc_column][/vc_row]
URL:https://ocentre.ch/evenement/cours-dauto-hypnose-a-delemont-22-11-2025/
LOCATION:Centre St-François – Delémont\, Route du Vorbourg 4\, Delémont\, NE\, 2800
CATEGORIES:Introduction à l'autohypnose,Jura
ATTACH;FMTTYPE=image/png:https://ocentre.ch/wp-content/uploads/ludde-lorentz-47866-1000x1000-1.png
GEO:47.367448;7.3453709
X-APPLE-STRUCTURED-LOCATION;VALUE=URI;X-ADDRESS=Centre St-François – Delémont Route du Vorbourg 4 Delémont NE 2800;X-APPLE-RADIUS=500;X-TITLE=Route du Vorbourg 4:geo:7.3453709,47.367448
END:VEVENT
BEGIN:VEVENT
DTSTART;VALUE=DATE:20251115
DTEND;VALUE=DATE:20251130
DTSTAMP:20260421T163909
CREATED:20250930T160150Z
LAST-MODIFIED:20251023T204757Z
UID:10000248-1763164800-1764460799@ocentre.ch
SUMMARY:Cours d'auto-hypnose à Neuchâtel 15 et 29.11.2025
DESCRIPTION:[vc_row][vc_column][vc_column_text] \n\n[/vc_column_text][/vc_column][/vc_row][vc_row fullwidth= »true » fullwidth_content= »false »][vc_column width= »1/2″][vc_column_text css= ».vc_custom_1761252118326{margin-bottom: 0px !important;} »] \nFormat\n2 samedis à Neuchâtel \nHoraire\n9h00 – 17h00 \nPrix\nCHF 360.- (400.- après le 31 octobre) \n[/vc_column_text][/vc_column][vc_column width= »1/2″][vc_column_text css= ».vc_custom_1759247332362{margin-bottom: 0px !important;} »] \nDates:\n\n15 novembre 2025\n29 novembre 2025\n\n[/vc_column_text][/vc_column][/vc_row][vc_row fullwidth= »true » fullwidth_content= »false »][vc_column][vc_separator css= » »][/vc_column][/vc_row][vc_row][vc_column width= »1/2″][vc_column_text css= ».vc_custom_1759417752657{margin-bottom: 0px !important;} »] \nLaissez-vous surprendre par la créativité de votre inconscient.\nDescription\nLa transe est un état naturel que nous vivons tous les jours. Elle facilite la communication avec l’inconscient et permet de faire émerger des solutions créatives. L’autohypnose est une technique qui permet d’y accéder à volonté pour activer les ressources inconscientes que nous avons à disposition. \nIl s’agit de techniques simples qui peuvent s’appliquer concrètement à tous les domaines de votre choix\, tels que créativité\, émotions\, stress\, anxiété\, mémoire\, poids\, confiance en soi. \nL’approche que nous proposons est basée sur la transe générative qui permet de mobiliser les sources d’intelligences cognitives\, somatiques et de champ. A la fin de ce cours vous aurez les bases nécessaires pour pouvoir pratiquer en sécurité\, de manière autonome. \nCe que vous allez apprendre\n\nLes bases de l’autohypnose et des états de transe.\nLes précautions à mettre en place pour pratiquer en toute sécurité.\nLes techniques d’accès à la transe qui vous conviennent le mieux.\nEntrer en contact avec vos différentes formes d’intelligence.\nPoser une intention pour mobiliser votre inconscient.\nActiver les ressources inconscientes que vous avez à disposition.\nTravailler avec les résistances qui vous limitent.\nAppliquer l’autohypnose dans tous les domaines de votre choix.\n\nPublic\nCe cours est ouvert à toutes les personnes qui souhaitent découvrir l’auto-Hypnose et l’utiliser de manière autonome. \nContre-indication\nLes personnes en cours de traitement ou d’accompagnement médical et/ou psychologique ainsi que pour les personnes avec des antécédents psychologiques\, veuillez vous assurer avant de vous inscrire avec votre médecin et/ou thérapeute qu’il n’y a pas de contre-indication à suivre cette formation pour vous. Nous sommes à disposition pour tout complément d’information. \nFormateur\nJean-Daniel Rüedi\nMaître-Praticien certifié en Hypnose et en PNL (Programmation Neuro-Linguistique)\, coach professionnel ICF-ACTP. \nAttestation de cours\nLes participants reçoivent une attestation de participation au cours qui ouvre la porte à la formation avancée d’autohypnose\, durant laquelles des aspects plus spécifiques de l’auto-Hypnose seront explorés. \nDurée\n12h \n[/vc_column_text][/vc_column][vc_column width= »1/2″][mk_image src= »https://ocentre.ch/wp-content/uploads/ludde-lorentz-47866-1000×1000-1.png » image_width= »500″ image_height= »500″][vc_column_text css= ».vc_custom_1761249999820{margin-bottom: 0px !important;} »] \nOrganisation\nL’organisation du cours est confirmée une fois que le nombre minimal de participants est atteint. \nProchaines dates et inscriptions\n\n	\n		\n\n			\n			\n\n			\n			\n				\n			\n			\n	\n		\n		\n		\n		\n	\n\n\n	Notice\n							\n					Il n’y a pas d’évènements à venir.				\n					\n	\n\n					\n	\n\n\n\nNos prochaines activités\n\n	\n		\n\n			\n			\n\n			\n			\n				\n			\n			\n	\n		\n		\n		\n		\n	\n\n\n	Notice\n							\n					Il n’y a pas d’évènements à venir.				\n					\n	\n\n					\n	\n\n\n Agenda de toutes les activités \n[/vc_column_text][/vc_column][/vc_row][mk_page_section bg_color= »#d1d1d1″ padding_top= »30″ padding_bottom= »30″ sidebar= »sidebar-1″][vc_column][vc_row_inner][vc_column_inner][vc_column_text css= ».vc_custom_1513790862579{margin-bottom: 0px !important;} »] \nTémoignages\n[/vc_column_text][/vc_column_inner][/vc_row_inner][vc_row_inner][vc_column_inner width= »1/2″][vc_cta h2= » »]A faire absolument! En quatre jours j’ai plus appris sur moi que en 5 ans de prise d’antidépresseurs avec psychiatre.[/vc_cta][vc_cta h2= » »]Très belle découverte d’une méthode de bien-être et de travail sur soi. A pratiquer un max.[/vc_cta][vc_cta h2= » »]Cela m’a permis de penser plus à moi\, de me retrouver un peu plus et j’encouragerai mon entourage indécis. Merci beaucoup![/vc_cta][vc_cta h2= » »]Il n’y a pas de règles\, tout est à explorer. Je ne me pose plus la question si je fais juste ou faux\, je prends comme cela vient.[/vc_cta][vc_cta h2= » »]D’autres visions sur ma vie. Avec des choses simples on peut changer beaucoup.[/vc_cta][vc_cta h2= » »]Très bon cours pour connaître une autre partie de soi-même[/vc_cta][/vc_column_inner][vc_column_inner width= »1/2″][vc_cta h2= » »]Heureux d’avoir fait ce cours qui m’apporte beaucoup.[/vc_cta][vc_cta h2= » »]Cela amène une meilleure connaissance de soi et des outils concrets pour améliorer sa qualité de vie.[/vc_cta][vc_cta h2= » »]Simple et rapidement sur le concret![/vc_cta][vc_cta h2= » »]Tentez\, osez\, laissez-vous porter et faites vous confiance.[/vc_cta][vc_cta h2= » »]Allez-y ça fait du bien.[/vc_cta][/vc_column_inner][/vc_row_inner][/vc_column][/mk_page_section][vc_row][vc_column][vc_column_text css= ».vc_custom_1515241881451{margin-bottom: 0px !important;} »] \nNos différents cours de PNL et hypnose\n[/vc_column_text][mk_portfolio column= »4″ excerpt_length= »0″ zoom_icon= »false » sortable= »false » order= »ASC » orderby= »menu_order » categories= »pnl\, hypnose »][/vc_column][/vc_row]
URL:https://ocentre.ch/evenement/cours-auto-hypnose-a-neuchatel-15-11-2025/
LOCATION:Exprimerie\, Rue St-Nicolas 11\, Neuchâtel\, NE\, 2000\, Switzerland
CATEGORIES:Introduction à l'autohypnose,Neuchâtel
ATTACH;FMTTYPE=image/png:https://ocentre.ch/wp-content/uploads/ludde-lorentz-47866-1000x1000-1.png
GEO:46.989598525827;6.9167307849994
X-APPLE-STRUCTURED-LOCATION;VALUE=URI;X-ADDRESS=Exprimerie Rue St-Nicolas 11 Neuchâtel NE 2000 Switzerland;X-APPLE-RADIUS=500;X-TITLE=Rue St-Nicolas 11:geo:6.9167307849994,46.989598525827
END:VEVENT
END:VCALENDAR